BEGIN:VCALENDAR
VERSION:2.0
PRODID:-//Oklahoma Rural Water Association - ECPv6.15.16//NONSGML v1.0//EN
CALSCALE:GREGORIAN
METHOD:PUBLISH
X-WR-CALNAME:Oklahoma Rural Water Association
X-ORIGINAL-URL:https://orwa.org
X-WR-CALDESC:Events for Oklahoma Rural Water Association
REFRESH-INTERVAL;VALUE=DURATION:PT1H
X-Robots-Tag:noindex
X-PUBLISHED-TTL:PT1H
BEGIN:VTIMEZONE
TZID:America/Chicago
BEGIN:DAYLIGHT
TZOFFSETFROM:-0600
TZOFFSETTO:-0500
TZNAME:CDT
DTSTART:20250309T080000
END:DAYLIGHT
BEGIN:STANDARD
TZOFFSETFROM:-0500
TZOFFSETTO:-0600
TZNAME:CST
DTSTART:20251102T070000
END:STANDARD
BEGIN:DAYLIGHT
TZOFFSETFROM:-0600
TZOFFSETTO:-0500
TZNAME:CDT
DTSTART:20260308T080000
END:DAYLIGHT
BEGIN:STANDARD
TZOFFSETFROM:-0500
TZOFFSETTO:-0600
TZNAME:CST
DTSTART:20261101T070000
END:STANDARD
BEGIN:DAYLIGHT
TZOFFSETFROM:-0600
TZOFFSETTO:-0500
TZNAME:CDT
DTSTART:20270314T080000
END:DAYLIGHT
BEGIN:STANDARD
TZOFFSETFROM:-0500
TZOFFSETTO:-0600
TZNAME:CST
DTSTART:20271107T070000
END:STANDARD
END:VTIMEZONE
BEGIN:VEVENT
DTSTART;TZID=America/Chicago:20260514T080000
DTEND;TZID=America/Chicago:20260514T120000
DTSTAMP:20260422T095543
CREATED:20260420T140300Z
LAST-MODIFIED:20260420T140642Z
UID:10000747-1778745600-1778760000@orwa.org
SUMMARY:City: Fort Gibson | AM Renewal | May 14th | 8:00AM – 12:00PM | Instr. Brad Rice
DESCRIPTION:Topics \n8:00AM – PFAS \n9:00AM – PFAS \n10:00AM – PFAS \n11:00AM – PFAS
URL:https://orwa.org/event/city-fort-gibson-am-renewal-may-14th-800am-1200pm-instr-brad-rice/
LOCATION:Fort Gibson City Hall\, 200 W. Poplar\, Fort Gibson\, 74434\, United States
CATEGORIES:Renewal Training
ORGANIZER;CN="ORWA Office":MAILTO:website@orwa.org
GEO:35.7974045;-95.2520844
X-APPLE-STRUCTURED-LOCATION;VALUE=URI;X-ADDRESS=Fort Gibson City Hall 200 W. Poplar Fort Gibson 74434 United States;X-APPLE-RADIUS=500;X-TITLE=200 W. Poplar:geo:-95.2520844,35.7974045
END:VEVENT
BEGIN:VEVENT
DTSTART;TZID=America/Chicago:20260514T130000
DTEND;TZID=America/Chicago:20260514T170000
DTSTAMP:20260422T095543
CREATED:20260420T140529Z
LAST-MODIFIED:20260420T140529Z
UID:10000748-1778763600-1778778000@orwa.org
SUMMARY:City: Fort Gibson | PM Renewal | May 14th | 1:00PM – 5:00PM | Instr. James Sauls
DESCRIPTION:Topics \n1:00PM – PFAS \n2:00PM –PFAS \n3:00PM – PFAS \n4:00PM – PFAS
URL:https://orwa.org/event/city-fort-gibson-pm-renewal-may-14th-100pm-500pm-instr-james-sauls/
LOCATION:Fort Gibson City Hall\, 200 W. Poplar\, Fort Gibson\, 74434\, United States
CATEGORIES:Renewal Training
ORGANIZER;CN="ORWA Office":MAILTO:website@orwa.org
GEO:35.7974045;-95.2520844
X-APPLE-STRUCTURED-LOCATION;VALUE=URI;X-ADDRESS=Fort Gibson City Hall 200 W. Poplar Fort Gibson 74434 United States;X-APPLE-RADIUS=500;X-TITLE=200 W. Poplar:geo:-95.2520844,35.7974045
END:VEVENT
END:VCALENDAR