BEGIN:VCALENDAR
VERSION:2.0
PRODID:-//Oklahoma Rural Water Association - ECPv6.15.16//NONSGML v1.0//EN
CALSCALE:GREGORIAN
METHOD:PUBLISH
X-ORIGINAL-URL:https://orwa.org
X-WR-CALDESC:Events for Oklahoma Rural Water Association
REFRESH-INTERVAL;VALUE=DURATION:PT1H
X-Robots-Tag:noindex
X-PUBLISHED-TTL:PT1H
BEGIN:VTIMEZONE
TZID:America/Chicago
BEGIN:DAYLIGHT
TZOFFSETFROM:-0600
TZOFFSETTO:-0500
TZNAME:CDT
DTSTART:20250309T080000
END:DAYLIGHT
BEGIN:STANDARD
TZOFFSETFROM:-0500
TZOFFSETTO:-0600
TZNAME:CST
DTSTART:20251102T070000
END:STANDARD
BEGIN:DAYLIGHT
TZOFFSETFROM:-0600
TZOFFSETTO:-0500
TZNAME:CDT
DTSTART:20260308T080000
END:DAYLIGHT
BEGIN:STANDARD
TZOFFSETFROM:-0500
TZOFFSETTO:-0600
TZNAME:CST
DTSTART:20261101T070000
END:STANDARD
BEGIN:DAYLIGHT
TZOFFSETFROM:-0600
TZOFFSETTO:-0500
TZNAME:CDT
DTSTART:20270314T080000
END:DAYLIGHT
BEGIN:STANDARD
TZOFFSETFROM:-0500
TZOFFSETTO:-0600
TZNAME:CST
DTSTART:20271107T070000
END:STANDARD
END:VTIMEZONE
BEGIN:VEVENT
DTSTART;TZID=America/Chicago:20260323T173000
DTEND;TZID=America/Chicago:20260324T203000
DTSTAMP:20260424T090117
CREATED:20260226T170517Z
LAST-MODIFIED:20260226T170635Z
UID:10000700-1774287000-1774384200@orwa.org
SUMMARY:City: Idabel | Board Member Training - NO OPERATOR CREDIT | March 23-24\, 2026 | 5:30PM – 8:30PM | Instr. Brandon Bowman
DESCRIPTION:Location: Kiamichi Tech Center\, Room 3\, 3205 NE Lincoln Rd\, Idabel\, OK 74745 \nBoard Member Training Only-No Operator Credit \nTopics \nDay 1 \n5:30PM – Issues and Problems Common to Small Public Water Systems \n6:30PM – Aspects of Public Water Supply Resilience \n7:30PM – Oklahoma Statute Title 82 – The Rural Water Act \nDay 2  \n5:30PM – Open Meeting Act \n6:30PM – Open Records Act / Nepotism and Dual Office Holding \n7:30PM — Boardsmanship and Meeting Management
URL:https://orwa.org/event/city-idabel-board-member-training-no-operator-credit-march-23-24-2026-530pm-830pm-instr-brandon-bowman/
LOCATION:Kiamichi Tech Center (Idabel)\, 3205 NE Lincoln Rd\, Idabel\, OK\, 74745\, United States
CATEGORIES:Board Training
ORGANIZER;CN="Brandon Bowman":MAILTO:bbowman@orwa.org
GEO:33.8809352;-94.7959836
X-APPLE-STRUCTURED-LOCATION;VALUE=URI;X-ADDRESS=Kiamichi Tech Center (Idabel) 3205 NE Lincoln Rd Idabel OK 74745 United States;X-APPLE-RADIUS=500;X-TITLE=3205 NE Lincoln Rd:geo:-94.7959836,33.8809352
END:VEVENT
BEGIN:VEVENT
DTSTART;TZID=America/Chicago:20260324T080000
DTEND;TZID=America/Chicago:20260324T120000
DTSTAMP:20260424T090117
CREATED:20260220T185022Z
LAST-MODIFIED:20260220T185022Z
UID:10000697-1774339200-1774353600@orwa.org
SUMMARY:City: Guthrie | AM Renewal | March 24th | 8:00AM – 12:00PM | Instr. Richey Kirkpatrick
DESCRIPTION:Topics \n8:00AM – Intro to OSHA \n9:00AM – Chlorine Handling Storage and Safety \n10:00AM – Chlorine Handling Storage and Safety cont. \n11:00AM – Confined Space
URL:https://orwa.org/event/city-guthrie-am-renewal-march-24th-800am-1200pm-instr-richey-kirkpatrick/
LOCATION:Logan Co. RWD #1\, 8901 S. Sooner Rd.\, Guthrie\, OK\, 73044\, United States
ORGANIZER;CN="ORWA Office":MAILTO:website@orwa.org
GEO:35.7861381;-97.4254097
X-APPLE-STRUCTURED-LOCATION;VALUE=URI;X-ADDRESS=Logan Co. RWD #1 8901 S. Sooner Rd. Guthrie OK 73044 United States;X-APPLE-RADIUS=500;X-TITLE=8901 S. Sooner Rd.:geo:-97.4254097,35.7861381
END:VEVENT
BEGIN:VEVENT
DTSTART;TZID=America/Chicago:20260324T130000
DTEND;TZID=America/Chicago:20260324T170000
DTSTAMP:20260424T090117
CREATED:20260220T192554Z
LAST-MODIFIED:20260220T192626Z
UID:10000698-1774357200-1774371600@orwa.org
SUMMARY:City: Guthrie | PM Renewal | March 24th | 1:00PM – 5:00PM | Instr. Richey Kirkpatrick
DESCRIPTION:Topics \n1:00PM – Excavator Operation and Safety \n2:00PM – Trenching and Shoring \n3:00PM – Trenching and Shoring Cont. \n4:00PM – GIS Mapping
URL:https://orwa.org/event/city-guthrie-pm-renewal-march-24th-100pm-500pm-instr-richey-kirkpatrick/
LOCATION:Logan Co. RWD #1\, 8901 S. Sooner Rd.\, Guthrie\, OK\, 73044\, United States
CATEGORIES:Renewal Training
ORGANIZER;CN="ORWA Office":MAILTO:website@orwa.org
GEO:35.7861381;-97.4254097
X-APPLE-STRUCTURED-LOCATION;VALUE=URI;X-ADDRESS=Logan Co. RWD #1 8901 S. Sooner Rd. Guthrie OK 73044 United States;X-APPLE-RADIUS=500;X-TITLE=8901 S. Sooner Rd.:geo:-97.4254097,35.7861381
END:VEVENT
BEGIN:VEVENT
DTSTART;TZID=America/Chicago:20260325T173000
DTEND;TZID=America/Chicago:20260326T203000
DTSTAMP:20260424T090117
CREATED:20260309T145256Z
LAST-MODIFIED:20260309T145256Z
UID:10000715-1774459800-1774557000@orwa.org
SUMMARY:City: Wister | Board Member Training - NO OPERATOR CREDIT | March 25-26\, 2026 | 5:30PM – 8:30PM | Instr. Brandon Bowman
DESCRIPTION:Location: PVIA Offices\, 25768 US Hwy 270\, Wister\, OK 74966 \nBoard Member Training Only-No Operator Credit \nTopics \nDay 1 \n5:30PM – Issues and Problems Common to Small Public Water Systems \n6:30PM – Aspects of Public Water Supply Resilience \n7:30PM – Oklahoma Statute Title 82 – The Rural Water Act \nDay 2  \n5:30PM – Open Meeting Act \n6:30PM – Open Records Act / Nepotism and Dual Office Holding \n7:30PM — Boardsmanship and Meeting Management
URL:https://orwa.org/event/city-wister-board-member-training-no-operator-credit-march-25-26-2026-530pm-830pm-instr-brandon-bowman/
LOCATION:PVIA Offices and Plant\, 25768 US Hwy 270\, Wister\, OK\, 74966\, United States
CATEGORIES:Board Training
ORGANIZER;CN="Brandon Bowman":MAILTO:bbowman@orwa.org
GEO:34.9478708;-94.7134356
X-APPLE-STRUCTURED-LOCATION;VALUE=URI;X-ADDRESS=PVIA Offices and Plant 25768 US Hwy 270 Wister OK 74966 United States;X-APPLE-RADIUS=500;X-TITLE=25768 US Hwy 270:geo:-94.7134356,34.9478708
END:VEVENT
BEGIN:VEVENT
DTSTART;TZID=America/Chicago:20260326T080000
DTEND;TZID=America/Chicago:20260326T160000
DTSTAMP:20260424T090117
CREATED:20260220T210456Z
LAST-MODIFIED:20260224T152935Z
UID:10000699-1774512000-1774540800@orwa.org
SUMMARY:City: Schulter | Board Member Training | March 26th | 8:00AM – 4:00PM | Instr. Steven Adams
DESCRIPTION:Topics \n8:00AM – Title 82 \n9:00AM – Nepotism / Dual Office Holding \n10:00AM – Sustainability \n11:00AM – Open Meeting / Open Records Act \n1:00PM – Boardsmanship \n2:00PM – Planning & Conducting Board Meetings
URL:https://orwa.org/event/city-schulter-board-member-training-march-26th-800pm-500pm-instr-steven-adams/
LOCATION:Schulter Town Hall\, Community Center\, and Senior Center\, 13450 Fern St\, Schulter\, OK\, 74660\, United States
CATEGORIES:Board Training
ORGANIZER;CN="ORWA Office":MAILTO:website@orwa.org
GEO:35.518445;-95.9564399
X-APPLE-STRUCTURED-LOCATION;VALUE=URI;X-ADDRESS=Schulter Town Hall Community Center and Senior Center 13450 Fern St Schulter OK 74660 United States;X-APPLE-RADIUS=500;X-TITLE=13450 Fern St:geo:-95.9564399,35.518445
END:VEVENT
BEGIN:VEVENT
DTSTART;TZID=America/Chicago:20260327T090000
DTEND;TZID=America/Chicago:20260327T150000
DTSTAMP:20260424T090117
CREATED:20260219T144259Z
LAST-MODIFIED:20260219T145739Z
UID:10000692-1774602000-1774623600@orwa.org
SUMMARY:City: Muse | Board Member Training - NO OPERATOR CREDIT | March 27th\, 2026 | 9:00AM – 3:00PM | Instr. Brandon Bowman
DESCRIPTION:Location: Leflore RWD 17 Offices\, 21981 State Highway 63\, Hodgen\, OK 74939 \nBoard Member Training Only-No Operator Credit \nTopics \n9:00AM – Open Meeting / Open Records \n10:00AM – Title 82 \n11:00AM – Nepotism / Dual Office Holding \n12:00PM – Sustainability / WORKING LUNCH \n1:00PM – Contingency Planning \n2:00PM – Boardsmanship
URL:https://orwa.org/event/city-muse-board-member-training-no-operator-credit-march-6th-2026-900am-300pm-instr-brandon-bowman/
LOCATION:Leflore RWD 17 Offices\, 21981 State Highway 63\, Hodgen\, OK\, 74939\, United States
CATEGORIES:Board Training
ORGANIZER;CN="Brandon Bowman":MAILTO:bbowman@orwa.org
GEO:34.6462241;-94.657817
X-APPLE-STRUCTURED-LOCATION;VALUE=URI;X-ADDRESS=Leflore RWD 17 Offices 21981 State Highway 63 Hodgen OK 74939 United States;X-APPLE-RADIUS=500;X-TITLE=21981 State Highway 63:geo:-94.657817,34.6462241
END:VEVENT
END:VCALENDAR